BEGIN:VCALENDAR
VERSION:2.0
PRODID:-//i-1-7j9t67cnn51367rnlo6vgf9i1d@google.com_202604301400//NONSGML k
 igkonsult.se iCalcreator 2.14//
METHOD:PUBLISH
X-WR-CALNAME:
X-WR-CALDESC:
X-WR-TIMEZONE:Europe/Helsinki
BEGIN:VEVENT
UID:20260424T143737CEST-6273wVZAUX@i-1-7j9t67cnn51367rnlo6vgf9i1d@google.co
 m_202604301400
DTSTAMP:20260424T123737Z
ATTENDEE:MAILTO:attendee1@icaldomain.net
DESCRIPTION:Walpurgisfeuer am Feuerwehrhaus
DTSTART:20260430T000000
DTEND:20260430T000000
LOCATION:Feuerwehr Winkels\, Weiherstraße 5\, 35794 Mengerskirchen\, Deutsc
 hland
SUMMARY:Maifeuer am Feuerwehrhaus
END:VEVENT
END:VCALENDAR
