BEGIN:VCALENDAR
VERSION:2.0
PRODID:-//i-1-3jfve0jtfhi6kaltkjrc39p75b@google.com_202604250600//NONSGML k
 igkonsult.se iCalcreator 2.14//
METHOD:PUBLISH
X-WR-CALNAME:
X-WR-CALDESC:
X-WR-TIMEZONE:Europe/Helsinki
BEGIN:VEVENT
UID:20260421T123552CEST-29980VIU4e@i-1-3jfve0jtfhi6kaltkjrc39p75b@google.co
 m_202604250600
DTSTAMP:20260421T103552Z
ATTENDEE:MAILTO:attendee1@icaldomain.net
DESCRIPTION:
DTSTART:20260425T000000
DTEND:20260425T000000
LOCATION:
SUMMARY:125 Jahre FF Löhnberg
END:VEVENT
END:VCALENDAR
