BEGIN:VCALENDAR
VERSION:2.0
PRODID:-//i-1-1jqgfdk1rlv1ns1o76u84m3398@google.com_202604300400//NONSGML k
 igkonsult.se iCalcreator 2.14//
METHOD:PUBLISH
X-WR-CALNAME:
X-WR-CALDESC:
X-WR-TIMEZONE:Europe/Helsinki
BEGIN:VEVENT
UID:20260425T144243CEST-0954Sf4fvr@i-1-1jqgfdk1rlv1ns1o76u84m3398@google.co
 m_202604300400
DTSTAMP:20260425T124243Z
ATTENDEE:MAILTO:attendee1@icaldomain.net
DESCRIPTION:Personal nach Bedarf
DTSTART:20260430T000000
DTEND:20260430T000000
LOCATION:Kindertagesstätte 'Unter dem Regenbogen'\, Zum Bürgerhaus 6\, 3579
 4 Mengerskirchen\, Deutschland
SUMMARY:Brandschutzerziehung Kindergarten
END:VEVENT
END:VCALENDAR
